BEGIN:VCALENDAR
VERSION:2.0
PRODID:-//Museum Valkenburg - ECPv6.15.20//NONSGML v1.0//EN
CALSCALE:GREGORIAN
METHOD:PUBLISH
X-WR-CALNAME:Museum Valkenburg
X-ORIGINAL-URL:https://www.museumvalkenburg.nl
X-WR-CALDESC:Evenementen voor Museum Valkenburg
REFRESH-INTERVAL;VALUE=DURATION:PT1H
X-Robots-Tag:noindex
X-PUBLISHED-TTL:PT1H
BEGIN:VTIMEZONE
TZID:Europe/Amsterdam
BEGIN:DAYLIGHT
TZOFFSETFROM:+0100
TZOFFSETTO:+0200
TZNAME:CEST
DTSTART:20250330T010000
END:DAYLIGHT
BEGIN:STANDARD
TZOFFSETFROM:+0200
TZOFFSETTO:+0100
TZNAME:CET
DTSTART:20251026T010000
END:STANDARD
BEGIN:DAYLIGHT
TZOFFSETFROM:+0100
TZOFFSETTO:+0200
TZNAME:CEST
DTSTART:20260329T010000
END:DAYLIGHT
BEGIN:STANDARD
TZOFFSETFROM:+0200
TZOFFSETTO:+0100
TZNAME:CET
DTSTART:20261025T010000
END:STANDARD
BEGIN:DAYLIGHT
TZOFFSETFROM:+0100
TZOFFSETTO:+0200
TZNAME:CEST
DTSTART:20270328T010000
END:DAYLIGHT
BEGIN:STANDARD
TZOFFSETFROM:+0200
TZOFFSETTO:+0100
TZNAME:CET
DTSTART:20271031T010000
END:STANDARD
END:VTIMEZONE
BEGIN:VEVENT
DTSTART;VALUE=DATE:20260105
DTEND;VALUE=DATE:20260706
DTSTAMP:20260425T131626
CREATED:20260421T073251Z
LAST-MODIFIED:20260421T073251Z
UID:23112-1767571200-1783295999@www.museumvalkenburg.nl
SUMMARY:75 jaar Museum Valkenburg Jubileum expositie: Collectie uit eigen depot
DESCRIPTION:Deze speciale expositie in het kader van 75 jaar Museum Valkenburg toont werken van aan Valkenburg gelieerde kunstenaars. De werken uit eigen depot zijn een resultaat van 75 jaar verzamelen\, veelal verkregen door schenkingen aan ons museum. De eigen collectie draagt een gouden randje en vormt tegelijkertijd een opmaat tot de vieringen van het 75 jaar bestaan van Museum Valkenburg. \nMuseum Valkenburg bezit een aanzienlijk aantal werken van Charles Eyck (1897 – 1983). Met de Verloren Zoon wint hij in 1922 de Prix de Rome. Het begin van een omvangrijke carrière. Eyck is een productieve alleskunner\, zoals uit de selectie van de getoonde werken in verschillende technieken blijkt. Eycks grote schilderij van de jury-kar tijdens een schuttersfeest\, bruikleen van de gemeente Valkenburg\, is de welkome gast in deze expositie. \nDaarnaast is er een selectie gemaakt van werken van Hans Coumans\, Guillaume Stassen\, Laurens Bisscheroux\, Gèr Huntjens\, Lei Molin\, Jacques Vonk\, Wil Leenders en Harry Koolen.
URL:https://www.museumvalkenburg.nl/agenda/75-jaar-museum-valkenburg-jubileum-expositie-collectie-uit-eigen-depot/
LOCATION:Museum Valkenburg\, Grotestraat Centrum 31\, Valkenburg aan de Geul\, 6301 CW\, Nederland
CATEGORIES:Tentoonstelling
ATTACH;FMTTYPE=image/jpeg:https://www.museumvalkenburg.nl/wp-content/uploads/2026/04/75-jaar-museum-valkenburg.jpg
END:VEVENT
END:VCALENDAR